BEGIN:VCALENDAR
VERSION:2.0
PRODID:-//GENUSSFREUNDE im Eventk&ouml;lla - ECPv6.15.14//NONSGML v1.0//EN
CALSCALE:GREGORIAN
METHOD:PUBLISH
X-WR-CALNAME:GENUSSFREUNDE im Eventk&ouml;lla
X-ORIGINAL-URL:https://www.xn--eventklla-57a.at
X-WR-CALDESC:Veranstaltungen für GENUSSFREUNDE im Eventk&ouml;lla
REFRESH-INTERVAL;VALUE=DURATION:PT1H
X-Robots-Tag:noindex
X-PUBLISHED-TTL:PT1H
BEGIN:VTIMEZONE
TZID:Europe/Vienna
BEGIN:DAYLIGHT
TZOFFSETFROM:+0100
TZOFFSETTO:+0200
TZNAME:CEST
DTSTART:20250330T010000
END:DAYLIGHT
BEGIN:STANDARD
TZOFFSETFROM:+0200
TZOFFSETTO:+0100
TZNAME:CET
DTSTART:20251026T010000
END:STANDARD
BEGIN:DAYLIGHT
TZOFFSETFROM:+0100
TZOFFSETTO:+0200
TZNAME:CEST
DTSTART:20260329T010000
END:DAYLIGHT
BEGIN:STANDARD
TZOFFSETFROM:+0200
TZOFFSETTO:+0100
TZNAME:CET
DTSTART:20261025T010000
END:STANDARD
BEGIN:DAYLIGHT
TZOFFSETFROM:+0100
TZOFFSETTO:+0200
TZNAME:CEST
DTSTART:20270328T010000
END:DAYLIGHT
BEGIN:STANDARD
TZOFFSETFROM:+0200
TZOFFSETTO:+0100
TZNAME:CET
DTSTART:20271031T010000
END:STANDARD
END:VTIMEZONE
BEGIN:VEVENT
DTSTART;TZID=Europe/Vienna:20260510T103000
DTEND;TZID=Europe/Vienna:20260510T140000
DTSTAMP:20260420T050531
CREATED:20260220T114215Z
LAST-MODIFIED:20260402T173717Z
UID:1924-1778409000-1778421600@www.xn--eventklla-57a.at
SUMMARY:Champagner-Brunch am Muttertag
DESCRIPTION:Champagner-Brunch „All you can eat“  \nGemeinsam genießen & Danke sagen.\nVerbringen Sie den Muttertag mit einem besonderen Genussmoment im Eventkölla Leibnitz. Freuen Sie sich auf ein vielfältiges All-you-can-eat-Buffet\, das keine Wünsche offenlässt – von klassischen Spezialitäten bis hin zu feinen Köstlichkeiten. \nEgal ob Mama\, Tiermama\, Bonus-Mama oder Herzensmensch – alle sind herzlich willkommen.\nGenießen Sie einen entspannten Tag mit der Familie und lassen Sie sich kulinarisch verwöhnen. \nDas erwartet Sie: \n\nHausgemachtes Winzer/Zwiebelbrot & italienische Focaccia\nScampi & Meeresfrüchtesalat\nRoastbeef\, Ente & feine Sülzen\nCremesuppe & kräftige Rindsuppe\nGeschmorte\, gebackene sowie Fisch- & vegetarische Gerichte\nAusgewählte Beilagen & frische Salate\nSüße Köstlichkeiten wie himmlisches Beeren-Tiramisu\n\nSonntag 10. Mai 2026 10:30 – 14:30 Uhr \nEventkölla\, Bahnhofstraße 24\, 8430 Leibnitz \nPreis: € 68\,- pro Person \nTickets ganz einfach unten buchen – limitierte Plätze! \nFür Fragen oder Sonderwünsche erreichen Sie uns telefonisch oder per Mail:\n0664 / 143 32 41 | info@genussfreunde.at \nTIPP für Ihre Feier!\nBuchen Sie den Eventkölla ab sofort gemeinsam mit den Genussfreunden –\nund genießen Sie Ihr Fest ohne Stress.\nDie Genussfreunde kochen für Sie auf!
URL:https://www.xn--eventklla-57a.at/event/champagner-brunch-am-muttertag/
END:VEVENT
END:VCALENDAR